BEGIN:VCALENDAR
VERSION:2.0
PRODID:-//Collins Middle School - ECPv6.15.18//NONSGML v1.0//EN
CALSCALE:GREGORIAN
METHOD:PUBLISH
X-ORIGINAL-URL:https://spscollins.salemk12.org
X-WR-CALDESC:Events for Collins Middle School
REFRESH-INTERVAL;VALUE=DURATION:PT1H
X-Robots-Tag:noindex
X-PUBLISHED-TTL:PT1H
BEGIN:VTIMEZONE
TZID:America/New_York
BEGIN:DAYLIGHT
TZOFFSETFROM:-0500
TZOFFSETTO:-0400
TZNAME:EDT
DTSTART:20250309T070000
END:DAYLIGHT
BEGIN:STANDARD
TZOFFSETFROM:-0400
TZOFFSETTO:-0500
TZNAME:EST
DTSTART:20251102T060000
END:STANDARD
BEGIN:DAYLIGHT
TZOFFSETFROM:-0500
TZOFFSETTO:-0400
TZNAME:EDT
DTSTART:20260308T070000
END:DAYLIGHT
BEGIN:STANDARD
TZOFFSETFROM:-0400
TZOFFSETTO:-0500
TZNAME:EST
DTSTART:20261101T060000
END:STANDARD
BEGIN:DAYLIGHT
TZOFFSETFROM:-0500
TZOFFSETTO:-0400
TZNAME:EDT
DTSTART:20270314T070000
END:DAYLIGHT
BEGIN:STANDARD
TZOFFSETFROM:-0400
TZOFFSETTO:-0500
TZNAME:EST
DTSTART:20271107T060000
END:STANDARD
END:VTIMEZONE
BEGIN:VEVENT
DTSTART;TZID=America/New_York:20260121T183000
DTEND;TZID=America/New_York:20260121T200000
DTSTAMP:20260423T172008
CREATED:20250304T215742Z
LAST-MODIFIED:20260121T200040Z
UID:10001513-1769020200-1769025600@spscollins.salemk12.org
SUMMARY:Kindergarten Expo- Virtual Town Hall
DESCRIPTION:
URL:https://spscollins.salemk12.org/event/kindergarten-expo-virtual-town-hall/
LOCATION:Online/Virtual
END:VEVENT
BEGIN:VEVENT
DTSTART;TZID=America/New_York:20260128T180000
DTEND;TZID=America/New_York:20260128T193000
DTSTAMP:20260423T172008
CREATED:20251001T155107Z
LAST-MODIFIED:20251001T155107Z
UID:10001549-1769623200-1769628600@spscollins.salemk12.org
SUMMARY:English Learner Parent Advisory Counsel (ELPAC) Meeting
DESCRIPTION:
URL:https://spscollins.salemk12.org/event/english-learner-parent-advisory-counsel-elpac-meeting-2/
LOCATION:Online/Virtual
CATEGORIES:Collins Middle School
END:VEVENT
END:VCALENDAR